BEGIN:VCALENDAR
VERSION:2.0
PRODID:-//Generazione P - ECPv6.4.0.1//NONSGML v1.0//EN
CALSCALE:GREGORIAN
METHOD:PUBLISH
X-WR-CALNAME:Generazione P
X-ORIGINAL-URL:https://generazionep.com
X-WR-CALDESC:Eventi per Generazione P
REFRESH-INTERVAL;VALUE=DURATION:PT1H
X-Robots-Tag:noindex
X-PUBLISHED-TTL:PT1H
BEGIN:VTIMEZONE
TZID:UTC
BEGIN:STANDARD
TZOFFSETFROM:+0000
TZOFFSETTO:+0000
TZNAME:UTC
DTSTART:20260101T000000
END:STANDARD
END:VTIMEZONE
BEGIN:VEVENT
DTSTART;VALUE=DATE:20260418
DTEND;VALUE=DATE:20260424
DTSTAMP:20260423T094924
CREATED:20240508T132301Z
LAST-MODIFIED:20240508T132432Z
UID:10000668-1776470400-1776988799@generazionep.com
SUMMARY:Generazione Pasolini
DESCRIPTION:
URL:https://generazionep.com/event/generazione-pasolini-2/2026-04-18/
LOCATION:Teatro Comunale Luigi De Leo\, Teatro\, Loreto Aprutino\, Italia
ATTACH;FMTTYPE=image/webp:https://generazionep.com/wp-content/uploads/2024/05/GP_11-scaled.webp
END:VEVENT
BEGIN:VEVENT
DTSTART;VALUE=DATE:20260419
DTEND;VALUE=DATE:20260425
DTSTAMP:20260423T094924
CREATED:20240508T132301Z
LAST-MODIFIED:20240508T132432Z
UID:10000669-1776556800-1777075199@generazionep.com
SUMMARY:Generazione Pasolini
DESCRIPTION:
URL:https://generazionep.com/event/generazione-pasolini-2/2026-04-19/
LOCATION:Teatro Comunale Luigi De Leo\, Teatro\, Loreto Aprutino\, Italia
ATTACH;FMTTYPE=image/webp:https://generazionep.com/wp-content/uploads/2024/05/GP_11-scaled.webp
END:VEVENT
BEGIN:VEVENT
DTSTART;VALUE=DATE:20260420
DTEND;VALUE=DATE:20260426
DTSTAMP:20260423T094924
CREATED:20240508T132301Z
LAST-MODIFIED:20240508T132432Z
UID:10000670-1776643200-1777161599@generazionep.com
SUMMARY:Generazione Pasolini
DESCRIPTION:
URL:https://generazionep.com/event/generazione-pasolini-2/2026-04-20/
LOCATION:Teatro Comunale Luigi De Leo\, Teatro\, Loreto Aprutino\, Italia
ATTACH;FMTTYPE=image/webp:https://generazionep.com/wp-content/uploads/2024/05/GP_11-scaled.webp
END:VEVENT
BEGIN:VEVENT
DTSTART;VALUE=DATE:20260421
DTEND;VALUE=DATE:20260427
DTSTAMP:20260423T094924
CREATED:20240508T132301Z
LAST-MODIFIED:20240508T132432Z
UID:10000671-1776729600-1777247999@generazionep.com
SUMMARY:Generazione Pasolini
DESCRIPTION:
URL:https://generazionep.com/event/generazione-pasolini-2/2026-04-21/
LOCATION:Teatro Comunale Luigi De Leo\, Teatro\, Loreto Aprutino\, Italia
ATTACH;FMTTYPE=image/webp:https://generazionep.com/wp-content/uploads/2024/05/GP_11-scaled.webp
END:VEVENT
BEGIN:VEVENT
DTSTART;VALUE=DATE:20260422
DTEND;VALUE=DATE:20260428
DTSTAMP:20260423T094924
CREATED:20240508T132301Z
LAST-MODIFIED:20240508T132432Z
UID:10000672-1776816000-1777334399@generazionep.com
SUMMARY:Generazione Pasolini
DESCRIPTION:
URL:https://generazionep.com/event/generazione-pasolini-2/2026-04-22/
LOCATION:Teatro Comunale Luigi De Leo\, Teatro\, Loreto Aprutino\, Italia
ATTACH;FMTTYPE=image/webp:https://generazionep.com/wp-content/uploads/2024/05/GP_11-scaled.webp
END:VEVENT
BEGIN:VEVENT
DTSTART;VALUE=DATE:20260423
DTEND;VALUE=DATE:20260429
DTSTAMP:20260423T094924
CREATED:20240508T132301Z
LAST-MODIFIED:20240508T132432Z
UID:10000673-1776902400-1777420799@generazionep.com
SUMMARY:Generazione Pasolini
DESCRIPTION:
URL:https://generazionep.com/event/generazione-pasolini-2/2026-04-23/
LOCATION:Teatro Comunale Luigi De Leo\, Teatro\, Loreto Aprutino\, Italia
ATTACH;FMTTYPE=image/webp:https://generazionep.com/wp-content/uploads/2024/05/GP_11-scaled.webp
END:VEVENT
BEGIN:VEVENT
DTSTART;VALUE=DATE:20260424
DTEND;VALUE=DATE:20260430
DTSTAMP:20260423T094924
CREATED:20240508T132301Z
LAST-MODIFIED:20240508T132432Z
UID:10000674-1776988800-1777507199@generazionep.com
SUMMARY:Generazione Pasolini
DESCRIPTION:
URL:https://generazionep.com/event/generazione-pasolini-2/2026-04-24/
LOCATION:Teatro Comunale Luigi De Leo\, Teatro\, Loreto Aprutino\, Italia
ATTACH;FMTTYPE=image/webp:https://generazionep.com/wp-content/uploads/2024/05/GP_11-scaled.webp
END:VEVENT
BEGIN:VEVENT
DTSTART;VALUE=DATE:20260425
DTEND;VALUE=DATE:20260501
DTSTAMP:20260423T094924
CREATED:20240508T132301Z
LAST-MODIFIED:20240508T132432Z
UID:10000675-1777075200-1777593599@generazionep.com
SUMMARY:Generazione Pasolini
DESCRIPTION:
URL:https://generazionep.com/event/generazione-pasolini-2/2026-04-25/
LOCATION:Teatro Comunale Luigi De Leo\, Teatro\, Loreto Aprutino\, Italia
ATTACH;FMTTYPE=image/webp:https://generazionep.com/wp-content/uploads/2024/05/GP_11-scaled.webp
END:VEVENT
BEGIN:VEVENT
DTSTART;VALUE=DATE:20260426
DTEND;VALUE=DATE:20260502
DTSTAMP:20260423T094924
CREATED:20240508T132301Z
LAST-MODIFIED:20240508T132432Z
UID:10000676-1777161600-1777679999@generazionep.com
SUMMARY:Generazione Pasolini
DESCRIPTION:
URL:https://generazionep.com/event/generazione-pasolini-2/2026-04-26/
LOCATION:Teatro Comunale Luigi De Leo\, Teatro\, Loreto Aprutino\, Italia
ATTACH;FMTTYPE=image/webp:https://generazionep.com/wp-content/uploads/2024/05/GP_11-scaled.webp
END:VEVENT
BEGIN:VEVENT
DTSTART;VALUE=DATE:20260427
DTEND;VALUE=DATE:20260503
DTSTAMP:20260423T094924
CREATED:20240508T132301Z
LAST-MODIFIED:20240508T132432Z
UID:10000677-1777248000-1777766399@generazionep.com
SUMMARY:Generazione Pasolini
DESCRIPTION:
URL:https://generazionep.com/event/generazione-pasolini-2/2026-04-27/
LOCATION:Teatro Comunale Luigi De Leo\, Teatro\, Loreto Aprutino\, Italia
ATTACH;FMTTYPE=image/webp:https://generazionep.com/wp-content/uploads/2024/05/GP_11-scaled.webp
END:VEVENT
BEGIN:VEVENT
DTSTART;VALUE=DATE:20260428
DTEND;VALUE=DATE:20260504
DTSTAMP:20260423T094924
CREATED:20240508T132301Z
LAST-MODIFIED:20240508T132432Z
UID:10000678-1777334400-1777852799@generazionep.com
SUMMARY:Generazione Pasolini
DESCRIPTION:
URL:https://generazionep.com/event/generazione-pasolini-2/2026-04-28/
LOCATION:Teatro Comunale Luigi De Leo\, Teatro\, Loreto Aprutino\, Italia
ATTACH;FMTTYPE=image/webp:https://generazionep.com/wp-content/uploads/2024/05/GP_11-scaled.webp
END:VEVENT
BEGIN:VEVENT
DTSTART;VALUE=DATE:20260429
DTEND;VALUE=DATE:20260505
DTSTAMP:20260423T094924
CREATED:20240508T132301Z
LAST-MODIFIED:20240508T132432Z
UID:10000679-1777420800-1777939199@generazionep.com
SUMMARY:Generazione Pasolini
DESCRIPTION:
URL:https://generazionep.com/event/generazione-pasolini-2/2026-04-29/
LOCATION:Teatro Comunale Luigi De Leo\, Teatro\, Loreto Aprutino\, Italia
ATTACH;FMTTYPE=image/webp:https://generazionep.com/wp-content/uploads/2024/05/GP_11-scaled.webp
END:VEVENT
BEGIN:VEVENT
DTSTART;VALUE=DATE:20260430
DTEND;VALUE=DATE:20260506
DTSTAMP:20260423T094924
CREATED:20240508T132301Z
LAST-MODIFIED:20240508T132432Z
UID:10000680-1777507200-1778025599@generazionep.com
SUMMARY:Generazione Pasolini
DESCRIPTION:
URL:https://generazionep.com/event/generazione-pasolini-2/2026-04-30/
LOCATION:Teatro Comunale Luigi De Leo\, Teatro\, Loreto Aprutino\, Italia
ATTACH;FMTTYPE=image/webp:https://generazionep.com/wp-content/uploads/2024/05/GP_11-scaled.webp
END:VEVENT
BEGIN:VEVENT
DTSTART;VALUE=DATE:20260501
DTEND;VALUE=DATE:20260507
DTSTAMP:20260423T094924
CREATED:20240508T132301Z
LAST-MODIFIED:20240508T132432Z
UID:10000681-1777593600-1778111999@generazionep.com
SUMMARY:Generazione Pasolini
DESCRIPTION:
URL:https://generazionep.com/event/generazione-pasolini-2/2026-05-01/
LOCATION:Teatro Comunale Luigi De Leo\, Teatro\, Loreto Aprutino\, Italia
ATTACH;FMTTYPE=image/webp:https://generazionep.com/wp-content/uploads/2024/05/GP_11-scaled.webp
END:VEVENT
BEGIN:VEVENT
DTSTART;VALUE=DATE:20260502
DTEND;VALUE=DATE:20260508
DTSTAMP:20260423T094924
CREATED:20240508T132301Z
LAST-MODIFIED:20240508T132432Z
UID:10000682-1777680000-1778198399@generazionep.com
SUMMARY:Generazione Pasolini
DESCRIPTION:
URL:https://generazionep.com/event/generazione-pasolini-2/2026-05-02/
LOCATION:Teatro Comunale Luigi De Leo\, Teatro\, Loreto Aprutino\, Italia
ATTACH;FMTTYPE=image/webp:https://generazionep.com/wp-content/uploads/2024/05/GP_11-scaled.webp
END:VEVENT
BEGIN:VEVENT
DTSTART;VALUE=DATE:20260503
DTEND;VALUE=DATE:20260509
DTSTAMP:20260423T094924
CREATED:20240508T132301Z
LAST-MODIFIED:20240508T132432Z
UID:10000683-1777766400-1778284799@generazionep.com
SUMMARY:Generazione Pasolini
DESCRIPTION:
URL:https://generazionep.com/event/generazione-pasolini-2/2026-05-03/
LOCATION:Teatro Comunale Luigi De Leo\, Teatro\, Loreto Aprutino\, Italia
ATTACH;FMTTYPE=image/webp:https://generazionep.com/wp-content/uploads/2024/05/GP_11-scaled.webp
END:VEVENT
BEGIN:VEVENT
DTSTART;VALUE=DATE:20260504
DTEND;VALUE=DATE:20260510
DTSTAMP:20260423T094924
CREATED:20240508T132301Z
LAST-MODIFIED:20240508T132432Z
UID:10000684-1777852800-1778371199@generazionep.com
SUMMARY:Generazione Pasolini
DESCRIPTION:
URL:https://generazionep.com/event/generazione-pasolini-2/2026-05-04/
LOCATION:Teatro Comunale Luigi De Leo\, Teatro\, Loreto Aprutino\, Italia
ATTACH;FMTTYPE=image/webp:https://generazionep.com/wp-content/uploads/2024/05/GP_11-scaled.webp
END:VEVENT
BEGIN:VEVENT
DTSTART;VALUE=DATE:20260505
DTEND;VALUE=DATE:20260511
DTSTAMP:20260423T094924
CREATED:20240508T132301Z
LAST-MODIFIED:20240508T132432Z
UID:10000685-1777939200-1778457599@generazionep.com
SUMMARY:Generazione Pasolini
DESCRIPTION:
URL:https://generazionep.com/event/generazione-pasolini-2/2026-05-05/
LOCATION:Teatro Comunale Luigi De Leo\, Teatro\, Loreto Aprutino\, Italia
ATTACH;FMTTYPE=image/webp:https://generazionep.com/wp-content/uploads/2024/05/GP_11-scaled.webp
END:VEVENT
BEGIN:VEVENT
DTSTART;VALUE=DATE:20260506
DTEND;VALUE=DATE:20260512
DTSTAMP:20260423T094924
CREATED:20240508T132301Z
LAST-MODIFIED:20240508T132432Z
UID:10000686-1778025600-1778543999@generazionep.com
SUMMARY:Generazione Pasolini
DESCRIPTION:
URL:https://generazionep.com/event/generazione-pasolini-2/2026-05-06/
LOCATION:Teatro Comunale Luigi De Leo\, Teatro\, Loreto Aprutino\, Italia
ATTACH;FMTTYPE=image/webp:https://generazionep.com/wp-content/uploads/2024/05/GP_11-scaled.webp
END:VEVENT
BEGIN:VEVENT
DTSTART;VALUE=DATE:20260507
DTEND;VALUE=DATE:20260513
DTSTAMP:20260423T094924
CREATED:20240508T132301Z
LAST-MODIFIED:20240508T132432Z
UID:10000687-1778112000-1778630399@generazionep.com
SUMMARY:Generazione Pasolini
DESCRIPTION:
URL:https://generazionep.com/event/generazione-pasolini-2/2026-05-07/
LOCATION:Teatro Comunale Luigi De Leo\, Teatro\, Loreto Aprutino\, Italia
ATTACH;FMTTYPE=image/webp:https://generazionep.com/wp-content/uploads/2024/05/GP_11-scaled.webp
END:VEVENT
BEGIN:VEVENT
DTSTART;VALUE=DATE:20260508
DTEND;VALUE=DATE:20260514
DTSTAMP:20260423T094924
CREATED:20240508T132301Z
LAST-MODIFIED:20240508T132432Z
UID:10000688-1778198400-1778716799@generazionep.com
SUMMARY:Generazione Pasolini
DESCRIPTION:
URL:https://generazionep.com/event/generazione-pasolini-2/2026-05-08/
LOCATION:Teatro Comunale Luigi De Leo\, Teatro\, Loreto Aprutino\, Italia
ATTACH;FMTTYPE=image/webp:https://generazionep.com/wp-content/uploads/2024/05/GP_11-scaled.webp
END:VEVENT
BEGIN:VEVENT
DTSTART;VALUE=DATE:20260509
DTEND;VALUE=DATE:20260515
DTSTAMP:20260423T094924
CREATED:20240508T132301Z
LAST-MODIFIED:20240508T132432Z
UID:10000689-1778284800-1778803199@generazionep.com
SUMMARY:Generazione Pasolini
DESCRIPTION:
URL:https://generazionep.com/event/generazione-pasolini-2/2026-05-09/
LOCATION:Teatro Comunale Luigi De Leo\, Teatro\, Loreto Aprutino\, Italia
ATTACH;FMTTYPE=image/webp:https://generazionep.com/wp-content/uploads/2024/05/GP_11-scaled.webp
END:VEVENT
BEGIN:VEVENT
DTSTART;VALUE=DATE:20260510
DTEND;VALUE=DATE:20260516
DTSTAMP:20260423T094924
CREATED:20240508T132301Z
LAST-MODIFIED:20240508T132432Z
UID:10000690-1778371200-1778889599@generazionep.com
SUMMARY:Generazione Pasolini
DESCRIPTION:
URL:https://generazionep.com/event/generazione-pasolini-2/2026-05-10/
LOCATION:Teatro Comunale Luigi De Leo\, Teatro\, Loreto Aprutino\, Italia
ATTACH;FMTTYPE=image/webp:https://generazionep.com/wp-content/uploads/2024/05/GP_11-scaled.webp
END:VEVENT
BEGIN:VEVENT
DTSTART;VALUE=DATE:20260511
DTEND;VALUE=DATE:20260517
DTSTAMP:20260423T094924
CREATED:20240508T132301Z
LAST-MODIFIED:20240508T132432Z
UID:10000691-1778457600-1778975999@generazionep.com
SUMMARY:Generazione Pasolini
DESCRIPTION:
URL:https://generazionep.com/event/generazione-pasolini-2/2026-05-11/
LOCATION:Teatro Comunale Luigi De Leo\, Teatro\, Loreto Aprutino\, Italia
ATTACH;FMTTYPE=image/webp:https://generazionep.com/wp-content/uploads/2024/05/GP_11-scaled.webp
END:VEVENT
BEGIN:VEVENT
DTSTART;VALUE=DATE:20260512
DTEND;VALUE=DATE:20260518
DTSTAMP:20260423T094924
CREATED:20240508T132301Z
LAST-MODIFIED:20240508T132432Z
UID:10000692-1778544000-1779062399@generazionep.com
SUMMARY:Generazione Pasolini
DESCRIPTION:
URL:https://generazionep.com/event/generazione-pasolini-2/2026-05-12/
LOCATION:Teatro Comunale Luigi De Leo\, Teatro\, Loreto Aprutino\, Italia
ATTACH;FMTTYPE=image/webp:https://generazionep.com/wp-content/uploads/2024/05/GP_11-scaled.webp
END:VEVENT
BEGIN:VEVENT
DTSTART;VALUE=DATE:20260513
DTEND;VALUE=DATE:20260519
DTSTAMP:20260423T094924
CREATED:20240508T132301Z
LAST-MODIFIED:20240508T132432Z
UID:10000693-1778630400-1779148799@generazionep.com
SUMMARY:Generazione Pasolini
DESCRIPTION:
URL:https://generazionep.com/event/generazione-pasolini-2/2026-05-13/
LOCATION:Teatro Comunale Luigi De Leo\, Teatro\, Loreto Aprutino\, Italia
ATTACH;FMTTYPE=image/webp:https://generazionep.com/wp-content/uploads/2024/05/GP_11-scaled.webp
END:VEVENT
BEGIN:VEVENT
DTSTART;VALUE=DATE:20260514
DTEND;VALUE=DATE:20260520
DTSTAMP:20260423T094924
CREATED:20240508T132301Z
LAST-MODIFIED:20240508T132432Z
UID:10000694-1778716800-1779235199@generazionep.com
SUMMARY:Generazione Pasolini
DESCRIPTION:
URL:https://generazionep.com/event/generazione-pasolini-2/2026-05-14/
LOCATION:Teatro Comunale Luigi De Leo\, Teatro\, Loreto Aprutino\, Italia
ATTACH;FMTTYPE=image/webp:https://generazionep.com/wp-content/uploads/2024/05/GP_11-scaled.webp
END:VEVENT
BEGIN:VEVENT
DTSTART;VALUE=DATE:20260515
DTEND;VALUE=DATE:20260521
DTSTAMP:20260423T094924
CREATED:20240508T132301Z
LAST-MODIFIED:20240508T132432Z
UID:10000695-1778803200-1779321599@generazionep.com
SUMMARY:Generazione Pasolini
DESCRIPTION:
URL:https://generazionep.com/event/generazione-pasolini-2/2026-05-15/
LOCATION:Teatro Comunale Luigi De Leo\, Teatro\, Loreto Aprutino\, Italia
ATTACH;FMTTYPE=image/webp:https://generazionep.com/wp-content/uploads/2024/05/GP_11-scaled.webp
END:VEVENT
BEGIN:VEVENT
DTSTART;VALUE=DATE:20260516
DTEND;VALUE=DATE:20260522
DTSTAMP:20260423T094924
CREATED:20240508T132301Z
LAST-MODIFIED:20240508T132432Z
UID:10000696-1778889600-1779407999@generazionep.com
SUMMARY:Generazione Pasolini
DESCRIPTION:
URL:https://generazionep.com/event/generazione-pasolini-2/2026-05-16/
LOCATION:Teatro Comunale Luigi De Leo\, Teatro\, Loreto Aprutino\, Italia
ATTACH;FMTTYPE=image/webp:https://generazionep.com/wp-content/uploads/2024/05/GP_11-scaled.webp
END:VEVENT
BEGIN:VEVENT
DTSTART;VALUE=DATE:20260517
DTEND;VALUE=DATE:20260523
DTSTAMP:20260423T094924
CREATED:20240508T132301Z
LAST-MODIFIED:20240508T132432Z
UID:10000697-1778976000-1779494399@generazionep.com
SUMMARY:Generazione Pasolini
DESCRIPTION:
URL:https://generazionep.com/event/generazione-pasolini-2/2026-05-17/
LOCATION:Teatro Comunale Luigi De Leo\, Teatro\, Loreto Aprutino\, Italia
ATTACH;FMTTYPE=image/webp:https://generazionep.com/wp-content/uploads/2024/05/GP_11-scaled.webp
END:VEVENT
END:VCALENDAR